BEGIN:VCALENDAR
VERSION:2.0
CALSCALE:GREGORIAN
PRODID:adamgibbons/ics
METHOD:PUBLISH
X-PUBLISHED-TTL:PT1H
BEGIN:VEVENT
UID:20723@offbeat.amsterdam
SUMMARY:Elivra (DE) + After Echoes (NL) + Deshurance (DE)
DTSTAMP:20260420T050232Z
DTSTART:20260424T190000Z
URL:https://offbeat.amsterdam/event/elivra-de-after-echoes-nl-deshurance-de
LOCATION:The Cave - Prinsengracht 472 sous\, 1017 KG Amsterdam
STATUS:CONFIRMED
CATEGORIES:alternative,alt. metalcore,amsterdam-centrum,hardcore,hardcore/m
	etalcore,leidseplein,live,melodic metalcore,performance
END:VEVENT
BEGIN:VEVENT
UID:20239@offbeat.amsterdam
SUMMARY:QOTSAC (NL) + Hyper Planet (NL) + BEP (NL)
DTSTAMP:20260420T050232Z
DTSTART:20260425T193000Z
URL:https://offbeat.amsterdam/event/qotsac-nl-hyper-planet-nl-bep-nl
LOCATION:The Cave - Prinsengracht 472 sous\, 1017 KG Amsterdam
STATUS:CONFIRMED
CATEGORIES:amsterdam-centrum,coverband,leidseplein,metal,music,prog. metal,
	punk-rock
END:VEVENT
BEGIN:VEVENT
UID:20721@offbeat.amsterdam
SUMMARY:Chaos (INDIA) + Nuclear Warfare (DE)
DTSTAMP:20260420T050232Z
DTSTART:20260523T194500Z
URL:https://offbeat.amsterdam/event/chaos-india-nuclear-warfare-de
LOCATION:The Cave - Prinsengracht 472 sous\, 1017 KG Amsterdam
STATUS:CONFIRMED
CATEGORIES:amsterdam-centrum,leidseplein,live,metal,music,performance,punk,
	thrash metal
END:VEVENT
END:VCALENDAR
